BEGIN:VCALENDAR
VERSION:2.0
PRODID:-//ChamberMaster//Event Calendar 2.0//EN
METHOD:PUBLISH
X-PUBLISHED-TTL:P3D
REFRESH-INTERVAL:P3D
CALSCALE:GREGORIAN
BEGIN:VEVENT
DTSTART:20160831T183000Z
DTEND:20160831T193000Z
X-MICROSOFT-CDO-ALLDAYEVENT:FALSE
SUMMARY:Ambassador Lunch Club
DESCRIPTION:This group acts as ambassadors for the Chamber and a point of contact for new members. All members are welcome!
X-ALT-DESC;FMTTYPE=text/html:This group acts as ambassadors for the Chamber and a point of contact for new members. All members are welcome!
LOCATION:Oggi's Pizza & Brewing Company 9828 Mission Gorge Road Santee\, CA 92071
UID:e.2538.1420
SEQUENCE:3
DTSTAMP:20260425T135532Z
URL:https://santeechamber.com/events/details/ambassador-lunch-club-08-31-2016-1420
END:VEVENT

END:VCALENDAR
