BEGIN:VCALENDAR
VERSION:2.0
PRODID:-//ChamberMaster//Event Calendar 2.0//EN
METHOD:PUBLISH
X-PUBLISHED-TTL:P3D
REFRESH-INTERVAL:P3D
CALSCALE:GREGORIAN
BEGIN:VEVENT
DTSTART:20160629T183000Z
DTEND:20160629T193000Z
X-MICROSOFT-CDO-ALLDAYEVENT:FALSE
SUMMARY:Ambassador Lunch Club
DESCRIPTION:This group acts as ambassadors for the Chamber and a point of contact for new members. All members are welcome!
X-ALT-DESC;FMTTYPE=text/html:This group acts as ambassadors for the Chamber and a point of contact for new members. All members are welcome!
LOCATION:Event location varies by month. June: Oggi's Pizza & Brewing Company 9828 Mission Gorge Road
UID:e.2538.1418
SEQUENCE:3
DTSTAMP:20260425T175336Z
URL:https://santeechamber.com/events/details/ambassador-lunch-club-06-29-2016-1418
END:VEVENT

END:VCALENDAR
