BEGIN:VCALENDAR
VERSION:2.0
PRODID:-//ChamberMaster//Event Calendar 2.0//EN
METHOD:PUBLISH
X-PUBLISHED-TTL:P3D
REFRESH-INTERVAL:P3D
CALSCALE:GREGORIAN
BEGIN:VEVENT
DTSTART:20160416T150000Z
DTEND:20160416T190000Z
X-MICROSOFT-CDO-ALLDAYEVENT:FALSE
SUMMARY:Aloha 5K Fun Run & Walk
DESCRIPTION:All proceeds directly benefit the students of the Santee School District
X-ALT-DESC;FMTTYPE=text/html:All proceeds directly benefit the students of the Santee School District
LOCATION:Town Center Community Park
UID:e.2538.2823
SEQUENCE:3
DTSTAMP:20260425T200028Z
URL:https://santeechamber.com/events/details/aloha-5k-fun-run-walk-04-16-2016-2823
END:VEVENT

END:VCALENDAR
