BEGIN:VCALENDAR
VERSION:2.0
PRODID:-//ChamberMaster//Event Calendar 2.0//EN
METHOD:PUBLISH
X-PUBLISHED-TTL:P3D
REFRESH-INTERVAL:P3D
CALSCALE:GREGORIAN
BEGIN:VEVENT
DTSTART:20180704T213000Z
DTEND:20180705T050000Z
X-MICROSOFT-CDO-ALLDAYEVENT:FALSE
SUMMARY:4th of July Santee Salutes
DESCRIPTION:
X-ALT-DESC;FMTTYPE=text/html:
LOCATION:Town Center Community Park East 550 Park Center Drive
UID:e.2538.3036
SEQUENCE:3
DTSTAMP:20260424T023557Z
URL:https://santeechamber.com/events/details/4th-of-july-santee-salutes-3036
END:VEVENT

END:VCALENDAR
